BEGIN:VCALENDAR
VERSION:2.0
PRODID:-//Argentina Flamenco - ECPv6.15.11//NONSGML v1.0//EN
CALSCALE:GREGORIAN
METHOD:PUBLISH
X-WR-CALNAME:Argentina Flamenco
X-ORIGINAL-URL:https://argentinaweb.es
X-WR-CALDESC:Eventos para Argentina Flamenco
REFRESH-INTERVAL;VALUE=DURATION:PT1H
X-Robots-Tag:noindex
X-PUBLISHED-TTL:PT1H
BEGIN:VTIMEZONE
TZID:Europe/Madrid
BEGIN:DAYLIGHT
TZOFFSETFROM:+0100
TZOFFSETTO:+0200
TZNAME:CEST
DTSTART:20240331T010000
END:DAYLIGHT
BEGIN:STANDARD
TZOFFSETFROM:+0200
TZOFFSETTO:+0100
TZNAME:CET
DTSTART:20241027T010000
END:STANDARD
BEGIN:DAYLIGHT
TZOFFSETFROM:+0100
TZOFFSETTO:+0200
TZNAME:CEST
DTSTART:20250330T010000
END:DAYLIGHT
BEGIN:STANDARD
TZOFFSETFROM:+0200
TZOFFSETTO:+0100
TZNAME:CET
DTSTART:20251026T010000
END:STANDARD
BEGIN:DAYLIGHT
TZOFFSETFROM:+0100
TZOFFSETTO:+0200
TZNAME:CEST
DTSTART:20260329T010000
END:DAYLIGHT
BEGIN:STANDARD
TZOFFSETFROM:+0200
TZOFFSETTO:+0100
TZNAME:CET
DTSTART:20261025T010000
END:STANDARD
END:VTIMEZONE
BEGIN:VEVENT
DTSTART;TZID=Europe/Madrid:20250705T223000
DTEND;TZID=Europe/Madrid:20250706T000000
DTSTAMP:20260420T192920
CREATED:20250620T152335Z
LAST-MODIFIED:20250620T154330Z
UID:5898-1751754600-1751760000@argentinaweb.es
SUMMARY:BADASOM 2025 - ARGENTINA - "CANTE & SAUDADE"
DESCRIPTION:ARGENTINA PRESENTA \nBADAJOZ – Cante & Saudade \nAuditorio Ricardo Carapeto \n5 julio 2025 \n22:30 horas \nVENTA DE ENTRADAS https://www.teatrolopezdeayala.es/shows/seats/1641/1872/badasom-2025-argentina-cante-saudade \n  \nhttps://argentinaweb.es/wp-content/uploads/2025/06/BADASOM-PROMO-4x5-1.mp4
URL:https://argentinaweb.es/conciertos/badasom-2025-argentina-cante-saudade/
LOCATION:Auditorio Ricardo Carapeto\, C. Tierra de Barros\, Badajoz\, Badajoz\, 06005\, Spain
ATTACH;FMTTYPE=image/jpeg:https://argentinaweb.es/wp-content/uploads/2025/06/cartel-ARGENTINA-scaled.jpg
END:VEVENT
END:VCALENDAR