BEGIN:VCALENDAR
VERSION:2.0
PRODID:-//Argentina Flamenco - ECPv6.15.11//NONSGML v1.0//EN
CALSCALE:GREGORIAN
METHOD:PUBLISH
X-WR-CALNAME:Argentina Flamenco
X-ORIGINAL-URL:https://argentinaweb.es
X-WR-CALDESC:Eventos para Argentina Flamenco
REFRESH-INTERVAL;VALUE=DURATION:PT1H
X-Robots-Tag:noindex
X-PUBLISHED-TTL:PT1H
BEGIN:VTIMEZONE
TZID:Europe/Madrid
BEGIN:DAYLIGHT
TZOFFSETFROM:+0100
TZOFFSETTO:+0200
TZNAME:CEST
DTSTART:20240331T010000
END:DAYLIGHT
BEGIN:STANDARD
TZOFFSETFROM:+0200
TZOFFSETTO:+0100
TZNAME:CET
DTSTART:20241027T010000
END:STANDARD
BEGIN:DAYLIGHT
TZOFFSETFROM:+0100
TZOFFSETTO:+0200
TZNAME:CEST
DTSTART:20250330T010000
END:DAYLIGHT
BEGIN:STANDARD
TZOFFSETFROM:+0200
TZOFFSETTO:+0100
TZNAME:CET
DTSTART:20251026T010000
END:STANDARD
BEGIN:DAYLIGHT
TZOFFSETFROM:+0100
TZOFFSETTO:+0200
TZNAME:CEST
DTSTART:20260329T010000
END:DAYLIGHT
BEGIN:STANDARD
TZOFFSETFROM:+0200
TZOFFSETTO:+0100
TZNAME:CET
DTSTART:20261025T010000
END:STANDARD
END:VTIMEZONE
BEGIN:VEVENT
DTSTART;TZID=Europe/Madrid:20250707T000000
DTEND;TZID=Europe/Madrid:20250707T020000
DTSTAMP:20260420T162302
CREATED:20250630T154547Z
LAST-MODIFIED:20250630T155422Z
UID:5907-1751846400-1751853600@argentinaweb.es
SUMMARY:Feria de Almonte
DESCRIPTION:Almonte – Argentina \nFeria de Almonte 2025 \nCaseta Municipal – entrada libre \n7 julio 2025 \n00:00 horas
URL:https://argentinaweb.es/conciertos/feria-de-almonte/
LOCATION:Recinto Ferial de Almonte\, Recinto Ferial de Almonte\, Almonte\, Huelva\, 21730\, Spain
ATTACH;FMTTYPE=image/jpeg:https://argentinaweb.es/wp-content/uploads/2025/06/image001.jpg
END:VEVENT
END:VCALENDAR